BEGIN:VCALENDAR
VERSION:2.0
PRODID:-//Visit Snåsa! - ECPv6.15.17.1//NONSGML v1.0//EN
CALSCALE:GREGORIAN
METHOD:PUBLISH
X-ORIGINAL-URL:https://www.snasa.no
X-WR-CALDESC:Arrangement for Visit Snåsa!
REFRESH-INTERVAL;VALUE=DURATION:PT1H
X-Robots-Tag:noindex
X-PUBLISHED-TTL:PT1H
BEGIN:VTIMEZONE
TZID:Europe/Oslo
BEGIN:DAYLIGHT
TZOFFSETFROM:+0100
TZOFFSETTO:+0200
TZNAME:CEST
DTSTART:20220327T010000
END:DAYLIGHT
BEGIN:STANDARD
TZOFFSETFROM:+0200
TZOFFSETTO:+0100
TZNAME:CET
DTSTART:20221030T010000
END:STANDARD
BEGIN:DAYLIGHT
TZOFFSETFROM:+0100
TZOFFSETTO:+0200
TZNAME:CEST
DTSTART:20230326T010000
END:DAYLIGHT
BEGIN:STANDARD
TZOFFSETFROM:+0200
TZOFFSETTO:+0100
TZNAME:CET
DTSTART:20231029T010000
END:STANDARD
BEGIN:DAYLIGHT
TZOFFSETFROM:+0100
TZOFFSETTO:+0200
TZNAME:CEST
DTSTART:20240331T010000
END:DAYLIGHT
BEGIN:STANDARD
TZOFFSETFROM:+0200
TZOFFSETTO:+0100
TZNAME:CET
DTSTART:20241027T010000
END:STANDARD
BEGIN:DAYLIGHT
TZOFFSETFROM:+0100
TZOFFSETTO:+0200
TZNAME:CEST
DTSTART:20250330T010000
END:DAYLIGHT
BEGIN:STANDARD
TZOFFSETFROM:+0200
TZOFFSETTO:+0100
TZNAME:CET
DTSTART:20251026T010000
END:STANDARD
END:VTIMEZONE
BEGIN:VEVENT
DTSTART;TZID=Europe/Oslo:20231122T120000
DTEND;TZID=Europe/Oslo:20240417T155300
DTSTAMP:20260422T062530
CREATED:20240408T085744Z
LAST-MODIFIED:20240918T135300Z
UID:10005382-1700654400-1713369180@www.snasa.no
SUMMARY:Babysang
DESCRIPTION:Annahver uke er det babysang i Snåsa menighet.\nSang\, musikk og bevegelser for mor/far og baby. \nVelkommen i Soknestuggu\, kl. 12:00. \nEtter sang er det kaffe.
URL:https://www.snasa.no/arrangement/babysang-3/2023-11-22/2/
CATEGORIES:Barn
ATTACH;FMTTYPE=image/jpeg:https://www.snasa.no/wp-content/uploads/2024/04/babysang.jpg
END:VEVENT
BEGIN:VEVENT
DTSTART;TZID=Europe/Oslo:20240203T183000
DTEND;TZID=Europe/Oslo:20240203T220000
DTSTAMP:20260422T062530
CREATED:20231212T202322Z
LAST-MODIFIED:20231219T101108Z
UID:10004345-1706985000-1706997600@www.snasa.no
SUMMARY:Teater "Tante Jutta fra Kalkutta" fra Ytterøy
DESCRIPTION:Vi kommer tilbake til Snåsa Samfunnshus!\nUL Vårglimts teaterlag fra Ytterøy spiller den humoristiske forestillingen «Tante Jutta fra Kalkutta».\n«Tante Jutta fra Kalkutta» handler om advokaten Hans Hansen. Han nyter godt av livets goder\, dette fordi at han stadig får tilsendt penger av sin tante Jutta. Men plutselig mener tante at han må få orden på livet sitt før han kan få noe mer fra henne. Hun skriver til han i et brev: «En ungkar sløser for mye!». Hans gjør dermed det alle i en slik situasjon hadde gjort\, han går hen og gifter seg. Neida\, det hadde vært for enkelt. Han lyver selvsagt på seg en hel familie! Kone\, barn og svigerfar\, som gjør at tante sender han haugevis med penger. Hans er storfornøyd\, helt fram til hans fødselsdag. Da kommer nemlig tante Jutta selv for å besøke den nydelige familien hans. Og hvordan skal advokaten klare å ro i land den ene løgnen etter den andre? Dette er et humorstykket med mye fart og moro. Velkommen inn til familien Hansen\, det vil bli en kveld du sent vil glemme! \nVi gleder oss til å spille teater for dere igjen 🙂
URL:https://www.snasa.no/arrangement/teater-tante-jutta-fra-kalkutta-fra-ytteroy/
CATEGORIES:Barn
ATTACH;FMTTYPE=image/jpeg:https://www.snasa.no/wp-content/uploads/2023/12/thumbnail_img_4203-2.jpg
END:VEVENT
BEGIN:VEVENT
DTSTART;TZID=Europe/Oslo:20240207T190000
DTEND;TZID=Europe/Oslo:20240207T210000
DTSTAMP:20260422T062530
CREATED:20231206T201220Z
LAST-MODIFIED:20231208T093059Z
UID:10004344-1707332400-1707339600@www.snasa.no
SUMMARY:Årsmøte i Snåsa Husflidslag - Brede skole
DESCRIPTION:Årsmøte\nVanlige årsmøtesaker .\nHvis noen har saker de vil ha tatt opp på årsmøtet må de sende disse inn til interimstyret senest 6 uker før årsmøtet.\nFor interimstyret\nSiv Magritt Østborg
URL:https://www.snasa.no/arrangement/arsmote-i-snasa-husflidslag/
CATEGORIES:Interesseorganisasjoner
END:VEVENT
BEGIN:VEVENT
DTSTART;TZID=Europe/Oslo:20240212T173000
DTEND;TZID=Europe/Oslo:20240212T193000
DTSTAMP:20260422T062530
CREATED:20240305T130427Z
LAST-MODIFIED:20250224T095555Z
UID:10006303-1707759000-1707766200@www.snasa.no
SUMMARY:KorEvi øvelse annenhver mandag
DESCRIPTION:Korøvelse i Snåsa demenskor KorEvi! \nAnnenhver mandag på partallsuker kl 17:30 – 19:30. \nSted: \nSnåsa kulturscene
URL:https://www.snasa.no/arrangement/korevi-ovelse-annenhver-mandag-pa-partallsuker/2024-02-12/
END:VEVENT
BEGIN:VEVENT
DTSTART;TZID=Europe/Oslo:20240226T170000
DTEND;TZID=Europe/Oslo:20240226T203000
DTSTAMP:20260422T062530
CREATED:20240214T131639Z
LAST-MODIFIED:20240221T073548Z
UID:10004613-1708966800-1708979400@www.snasa.no
SUMMARY:Årsmøte på Kløvertunet - Snåsa pensjonistlag
DESCRIPTION:Årsmøte på Kløvertunet mandag 26. februar kl. 17:00. \nGjest: Fysioterapeut Frida Næss Jørstad om oppstart av gruppen» Sterk & Stødig» \nGRATIS servering av Karbonadesmørbrød/ kake. \nSang\, musikk og Åresalg. \nPåmelding til Julie-Ann Mobil: 48423503. \nVelkommen til deg og dine venner/ naboer. \n  \nArr. Snåsa pensjonistlag
URL:https://www.snasa.no/arrangement/arsmote-pa-klovertunet-mandag-26-februar-kl-1700/
END:VEVENT
BEGIN:VEVENT
DTSTART;TZID=Europe/Oslo:20240226T173000
DTEND;TZID=Europe/Oslo:20240226T193000
DTSTAMP:20260422T062530
CREATED:20240305T130427Z
LAST-MODIFIED:20250224T095555Z
UID:10006305-1708968600-1708975800@www.snasa.no
SUMMARY:KorEvi øvelse annenhver mandag
DESCRIPTION:Korøvelse i Snåsa demenskor KorEvi! \nAnnenhver mandag på partallsuker kl 17:30 – 19:30. \nSted: \nSnåsa kulturscene
URL:https://www.snasa.no/arrangement/korevi-ovelse-annenhver-mandag-pa-partallsuker/2024-02-26/
END:VEVENT
BEGIN:VEVENT
DTSTART;TZID=Europe/Oslo:20240226T173000
DTEND;TZID=Europe/Oslo:20240226T203000
DTSTAMP:20260422T062530
CREATED:20240223T143054Z
LAST-MODIFIED:20240223T143240Z
UID:10004616-1708968600-1708979400@www.snasa.no
SUMMARY:Snåsa 4H klubbkveld med prosjektstart på Snåsa skole
DESCRIPTION:Snåsa 4H har klubbkveld med prosjektstart. \nVi deler oss i grupper\, og lærer hvordan vi kan jobbe med årets prosjekt.\nVi skal også lage godsaker og pynt til karnevalet som vi skal arrangere for naboklubber 02.03.24 \nTa med:\nKopp\, saks og blyant \nJunior og senior (2012 og eldre):\nTa med telefon eller i-pad. \nKlubbkvelden er for medlemmer\, men også for unge fra 9 år (3.klasse) som ønsker å bli kjent med oss og kanskje bli med!\nMedlemmer melder seg på i spond. Nye interesserte sender sms til klubbrådgiver Dagunn Moum på 92637083
URL:https://www.snasa.no/arrangement/snasa-4h-klubbkveld-med-prosjektstart-pa-snasa-skole/
LOCATION:Ella Holm-Bulls veg 2\, 7760 Snåsa\, Ella Holm Bulls veg 2\, SNÅSA\, 7760\, Norge
CATEGORIES:Barn,Hobby/ fritid,Ungdom
END:VEVENT
END:VCALENDAR