BEGIN:VCALENDAR
VERSION:2.0
PRODID:-//Visit Snåsa! - ECPv6.15.17.1//NONSGML v1.0//EN
CALSCALE:GREGORIAN
METHOD:PUBLISH
X-ORIGINAL-URL:https://www.snasa.no
X-WR-CALDESC:Arrangement for Visit Snåsa!
REFRESH-INTERVAL;VALUE=DURATION:PT1H
X-Robots-Tag:noindex
X-PUBLISHED-TTL:PT1H
BEGIN:VTIMEZONE
TZID:Europe/Oslo
BEGIN:DAYLIGHT
TZOFFSETFROM:+0100
TZOFFSETTO:+0200
TZNAME:CEST
DTSTART:20230326T010000
END:DAYLIGHT
BEGIN:STANDARD
TZOFFSETFROM:+0200
TZOFFSETTO:+0100
TZNAME:CET
DTSTART:20231029T010000
END:STANDARD
BEGIN:DAYLIGHT
TZOFFSETFROM:+0100
TZOFFSETTO:+0200
TZNAME:CEST
DTSTART:20240331T010000
END:DAYLIGHT
BEGIN:STANDARD
TZOFFSETFROM:+0200
TZOFFSETTO:+0100
TZNAME:CET
DTSTART:20241027T010000
END:STANDARD
BEGIN:DAYLIGHT
TZOFFSETFROM:+0100
TZOFFSETTO:+0200
TZNAME:CEST
DTSTART:20250330T010000
END:DAYLIGHT
BEGIN:STANDARD
TZOFFSETFROM:+0200
TZOFFSETTO:+0100
TZNAME:CET
DTSTART:20251026T010000
END:STANDARD
END:VTIMEZONE
BEGIN:VEVENT
DTSTART;TZID=Europe/Oslo:20240505T110000
DTEND;TZID=Europe/Oslo:20240505T110000
DTSTAMP:20260421T222017
CREATED:20240411T081844Z
LAST-MODIFIED:20240411T114119Z
UID:10005071-1714906800-1714906800@www.snasa.no
SUMMARY:Gudstjeneste - konfirmantenes samtalegudstjeneste
DESCRIPTION:Samtalegudstjenesten er en gudstjeneste som blir ledet av konfirmantene. De oppsummerer hva de har lært gjennom et år med konfirmantundervisning. \nVelkommen til alle som vil høre på!\nKirkekaffe etter gudstjenesten. \nVonheim\, kl. 11:00
URL:https://www.snasa.no/arrangement/gudstjeneste-konfirmantenes-samtalegudstjeneste/
ATTACH;FMTTYPE=image/jpeg:https://www.snasa.no/wp-content/uploads/2024/04/salmebok.jpg
END:VEVENT
BEGIN:VEVENT
DTSTART;TZID=Europe/Oslo:20240506T173000
DTEND;TZID=Europe/Oslo:20240506T193000
DTSTAMP:20260421T222017
CREATED:20240305T130427Z
LAST-MODIFIED:20250224T095555Z
UID:10006315-1715016600-1715023800@www.snasa.no
SUMMARY:KorEvi øvelse annenhver mandag
DESCRIPTION:Korøvelse i Snåsa demenskor KorEvi! \nAnnenhver mandag på partallsuker kl 17:30 – 19:30. \nSted: \nSnåsa kulturscene
URL:https://www.snasa.no/arrangement/korevi-ovelse-annenhver-mandag-pa-partallsuker/2024-05-06/
END:VEVENT
BEGIN:VEVENT
DTSTART;TZID=Europe/Oslo:20240510T130000
DTEND;TZID=Europe/Oslo:20240510T150000
DTSTAMP:20260421T222017
CREATED:20240408T090926Z
LAST-MODIFIED:20240409T083456Z
UID:10005040-1715346000-1715353200@www.snasa.no
SUMMARY:Fredagsklubb
DESCRIPTION:Fredagsklubb for barn fra 1. til 4. klasse\, arrangert av Snåsa menighet.\nHobby og lek\, samling med fortelling og sang. \nOddetalsuker på fredag\, rett etter skoletid. Velkommen til alle barn!!
URL:https://www.snasa.no/arrangement/fredagsklubb-2/2024-05-10/
CATEGORIES:Barn,Hobby/ fritid
ATTACH;FMTTYPE=image/jpeg:https://www.snasa.no/wp-content/uploads/2024/04/396349342_240945358661525_8858761302289564611_n.jpg
END:VEVENT
BEGIN:VEVENT
DTSTART;TZID=Europe/Oslo:20240514T130000
DTEND;TZID=Europe/Oslo:20240514T143000
DTSTAMP:20260421T222017
CREATED:20240408T090559Z
LAST-MODIFIED:20240409T082930Z
UID:10004910-1715691600-1715697000@www.snasa.no
SUMMARY:Seniorkor
DESCRIPTION:Seniorkor er et kor for sangglade eldre over 70 år. Annahver tirsdag møtes de i Soknestuggu for en sangstund og kaffetreff.\nOrganist/Kantor Magne Emberland leder gruppen.
URL:https://www.snasa.no/arrangement/seniorkor/2024-05-14/
ATTACH;FMTTYPE=image/jpeg:https://www.snasa.no/wp-content/uploads/2024/04/notebok-pa-piano-foto-den-norske-kirke-kirkeradet-scaled.jpg
END:VEVENT
BEGIN:VEVENT
DTSTART;TZID=Europe/Oslo:20240520T173000
DTEND;TZID=Europe/Oslo:20240520T193000
DTSTAMP:20260421T222017
CREATED:20240305T130427Z
LAST-MODIFIED:20250224T095555Z
UID:10006317-1716226200-1716233400@www.snasa.no
SUMMARY:KorEvi øvelse annenhver mandag
DESCRIPTION:Korøvelse i Snåsa demenskor KorEvi! \nAnnenhver mandag på partallsuker kl 17:30 – 19:30. \nSted: \nSnåsa kulturscene
URL:https://www.snasa.no/arrangement/korevi-ovelse-annenhver-mandag-pa-partallsuker/2024-05-20/
END:VEVENT
BEGIN:VEVENT
DTSTART;TZID=Europe/Oslo:20240522T080000
DTEND;TZID=Europe/Oslo:20240522T170000
DTSTAMP:20260421T222017
CREATED:20240111T091336Z
LAST-MODIFIED:20240522T132203Z
UID:10005359-1716364800-1716397200@www.snasa.no
SUMMARY:NÆTTVERKET (Mental Helse Snåsa) Hver onsdag
DESCRIPTION:NÆTTVERKET!! \nMental helse Snåsa driver et treffsted “NÆTTVERKET”. Vi treffes hver onsdag for å snakke om stort og smått som opptar oss i hverdagen. ( te/kaffe \, noe å bite i) \nMental helse er en medlemsorganisasjon for alle mennesker med psykiske/fysisk helseproblem og pårørende. ( og andre) Vi arbeider for at alle kan leve et meningsfullt liv og oppleve egenverd og mestring. \nVELKOMMEN
URL:https://www.snasa.no/arrangement/naettverket-mental-helse-snasa-hver-onsdag-3/2024-05-22/
ATTACH;FMTTYPE=image/jpeg:https://www.snasa.no/wp-content/uploads/2024/01/mental_helse_snasa_vinje-scaled.jpg
END:VEVENT
BEGIN:VEVENT
DTSTART;TZID=Europe/Oslo:20240524T130000
DTEND;TZID=Europe/Oslo:20240524T150000
DTSTAMP:20260421T222017
CREATED:20240408T090926Z
LAST-MODIFIED:20240409T083456Z
UID:10005041-1716555600-1716562800@www.snasa.no
SUMMARY:Fredagsklubb
DESCRIPTION:Fredagsklubb for barn fra 1. til 4. klasse\, arrangert av Snåsa menighet.\nHobby og lek\, samling med fortelling og sang. \nOddetalsuker på fredag\, rett etter skoletid. Velkommen til alle barn!!
URL:https://www.snasa.no/arrangement/fredagsklubb-2/2024-05-24/
CATEGORIES:Barn,Hobby/ fritid
ATTACH;FMTTYPE=image/jpeg:https://www.snasa.no/wp-content/uploads/2024/04/396349342_240945358661525_8858761302289564611_n.jpg
END:VEVENT
BEGIN:VEVENT
DTSTART;TZID=Europe/Oslo:20240528T130000
DTEND;TZID=Europe/Oslo:20240528T143000
DTSTAMP:20260421T222017
CREATED:20240408T090559Z
LAST-MODIFIED:20240409T082930Z
UID:10004911-1716901200-1716906600@www.snasa.no
SUMMARY:Seniorkor
DESCRIPTION:Seniorkor er et kor for sangglade eldre over 70 år. Annahver tirsdag møtes de i Soknestuggu for en sangstund og kaffetreff.\nOrganist/Kantor Magne Emberland leder gruppen.
URL:https://www.snasa.no/arrangement/seniorkor/2024-05-28/
ATTACH;FMTTYPE=image/jpeg:https://www.snasa.no/wp-content/uploads/2024/04/notebok-pa-piano-foto-den-norske-kirke-kirkeradet-scaled.jpg
END:VEVENT
BEGIN:VEVENT
DTSTART;TZID=Europe/Oslo:20240529T110000
DTEND;TZID=Europe/Oslo:20240529T130000
DTSTAMP:20260421T222017
CREATED:20240524T075046Z
LAST-MODIFIED:20240524T075046Z
UID:10005363-1716980400-1716987600@www.snasa.no
SUMMARY:Nettverket - mental helse- Vinje skole
DESCRIPTION:Nettverket – mental helse
URL:https://www.snasa.no/arrangement/nettverket-mental-helse-vinje-skole/
END:VEVENT
END:VCALENDAR