BEGIN:VCALENDAR
VERSION:2.0
PRODID:-//Visit Snåsa! - ECPv6.15.17.1//NONSGML v1.0//EN
CALSCALE:GREGORIAN
METHOD:PUBLISH
X-WR-CALNAME:Visit Snåsa!
X-ORIGINAL-URL:https://www.snasa.no
X-WR-CALDESC:Arrangement for Visit Snåsa!
REFRESH-INTERVAL;VALUE=DURATION:PT1H
X-Robots-Tag:noindex
X-PUBLISHED-TTL:PT1H
BEGIN:VTIMEZONE
TZID:Europe/Oslo
BEGIN:DAYLIGHT
TZOFFSETFROM:+0100
TZOFFSETTO:+0200
TZNAME:CEST
DTSTART:20230326T010000
END:DAYLIGHT
BEGIN:STANDARD
TZOFFSETFROM:+0200
TZOFFSETTO:+0100
TZNAME:CET
DTSTART:20231029T010000
END:STANDARD
BEGIN:DAYLIGHT
TZOFFSETFROM:+0100
TZOFFSETTO:+0200
TZNAME:CEST
DTSTART:20240331T010000
END:DAYLIGHT
BEGIN:STANDARD
TZOFFSETFROM:+0200
TZOFFSETTO:+0100
TZNAME:CET
DTSTART:20241027T010000
END:STANDARD
BEGIN:DAYLIGHT
TZOFFSETFROM:+0100
TZOFFSETTO:+0200
TZNAME:CEST
DTSTART:20250330T010000
END:DAYLIGHT
BEGIN:STANDARD
TZOFFSETFROM:+0200
TZOFFSETTO:+0100
TZNAME:CET
DTSTART:20251026T010000
END:STANDARD
END:VTIMEZONE
BEGIN:VEVENT
DTSTART;TZID=Europe/Oslo:20240603T170000
DTEND;TZID=Europe/Oslo:20240603T210000
DTSTAMP:20260421T204143
CREATED:20240513T063138Z
LAST-MODIFIED:20240513T122126Z
UID:10005072-1717434000-1717448400@www.snasa.no
SUMMARY:Snåsa Pensjonistlag VÅRMØTE
DESCRIPTION:VÅRMØTE med musikk av FISKUM’s \nUnderholdning v/ Knut& Magne fra Levanger. \nSang\, Åresalg og møteservering. \nVelkommen!
URL:https://www.snasa.no/arrangement/snasa-pensjonistlag-varmote/
ATTACH;FMTTYPE=image/jpeg:https://www.snasa.no/wp-content/uploads/2024/05/img_1474-scaled.jpeg
END:VEVENT
BEGIN:VEVENT
DTSTART;TZID=Europe/Oslo:20240603T173000
DTEND;TZID=Europe/Oslo:20240603T193000
DTSTAMP:20260421T204143
CREATED:20240305T130427Z
LAST-MODIFIED:20250224T095555Z
UID:10006319-1717435800-1717443000@www.snasa.no
SUMMARY:KorEvi øvelse annenhver mandag
DESCRIPTION:Korøvelse i Snåsa demenskor KorEvi! \nAnnenhver mandag på partallsuker kl 17:30 – 19:30. \nSted: \nSnåsa kulturscene
URL:https://www.snasa.no/arrangement/korevi-ovelse-annenhver-mandag-pa-partallsuker/2024-06-03/
END:VEVENT
BEGIN:VEVENT
DTSTART;TZID=Europe/Oslo:20240603T190000
DTEND;TZID=Europe/Oslo:20240603T210000
DTSTAMP:20260421T204143
CREATED:20240522T081011Z
LAST-MODIFIED:20240522T081802Z
UID:10005073-1717441200-1717448400@www.snasa.no
SUMMARY:MØTEPLASS ( for pårørende )
DESCRIPTION:Møteplassen !! \nMøteplassen er for pårørende som har/hatt rus og psykisk uhelse i nære relasjoner.\nDer treffes vi for en uformell prat. En skal ikke føle seg overlatt til seg selv med sine problem. Det er viktig for pårørende\, tross påkjenninger\, er at DU en viktig støttespiller og ressurs for den syke. Vi har en forståelse hva Du sitter\, du kan også få med noen verktøy som DU kan buke i hverdagen. Som igjen kan med føre at akkurat DU kan få en bedre hverdag. \nØnsker du kan du få en indviduell samtale med pårørende kontakt Arnhild Brønstad mobil.nr 48 20 25 35.\nVELKOMEN !
URL:https://www.snasa.no/arrangement/moteplass-for-parorende-6/
END:VEVENT
BEGIN:VEVENT
DTSTART;TZID=Europe/Oslo:20240605T110000
DTEND;TZID=Europe/Oslo:20240605T130000
DTSTAMP:20260421T204143
CREATED:20240522T131357Z
LAST-MODIFIED:20240522T131358Z
UID:10005104-1717585200-1717592400@www.snasa.no
SUMMARY:NÆTTVERKET (Mental Helse Snåsa) Hver onsdag
DESCRIPTION:NÆTTVERKET!! \nMental helse Snåsa driver et treffsted “NÆTTVERKET”. Vi treffes hver onsdag for å snakke om stort og smått som opptar oss i hverdagen. ( te/kaffe \, noe å bite i) \nMental helse er en medlemsorganisasjon for alle mennesker med psykiske/fysisk helseproblem og pårørende. ( og andre) Vi arbeider for at alle kan leve et meningsfullt liv og oppleve egenverd og mestring. \nVELKOMMEN
URL:https://www.snasa.no/arrangement/naettverket-mental-helse-snasa-hver-onsdag-3-2/2024-06-05/
ATTACH;FMTTYPE=image/jpeg:https://www.snasa.no/wp-content/uploads/2024/01/mental_helse_snasa_vinje-scaled.jpg
END:VEVENT
BEGIN:VEVENT
DTSTART;TZID=Europe/Oslo:20240607T130000
DTEND;TZID=Europe/Oslo:20240607T150000
DTSTAMP:20260421T204143
CREATED:20240408T090926Z
LAST-MODIFIED:20240409T083456Z
UID:10005042-1717765200-1717772400@www.snasa.no
SUMMARY:Fredagsklubb
DESCRIPTION:Fredagsklubb for barn fra 1. til 4. klasse\, arrangert av Snåsa menighet.\nHobby og lek\, samling med fortelling og sang. \nOddetalsuker på fredag\, rett etter skoletid. Velkommen til alle barn!!
URL:https://www.snasa.no/arrangement/fredagsklubb-2/2024-06-07/
CATEGORIES:Barn,Hobby/ fritid
ATTACH;FMTTYPE=image/jpeg:https://www.snasa.no/wp-content/uploads/2024/04/396349342_240945358661525_8858761302289564611_n.jpg
END:VEVENT
BEGIN:VEVENT
DTSTART;TZID=Europe/Oslo:20240611T130000
DTEND;TZID=Europe/Oslo:20240611T143000
DTSTAMP:20260421T204143
CREATED:20240408T090559Z
LAST-MODIFIED:20240409T082930Z
UID:10004912-1718110800-1718116200@www.snasa.no
SUMMARY:Seniorkor
DESCRIPTION:Seniorkor er et kor for sangglade eldre over 70 år. Annahver tirsdag møtes de i Soknestuggu for en sangstund og kaffetreff.\nOrganist/Kantor Magne Emberland leder gruppen.
URL:https://www.snasa.no/arrangement/seniorkor/2024-06-11/
ATTACH;FMTTYPE=image/jpeg:https://www.snasa.no/wp-content/uploads/2024/04/notebok-pa-piano-foto-den-norske-kirke-kirkeradet-scaled.jpg
END:VEVENT
BEGIN:VEVENT
DTSTART;TZID=Europe/Oslo:20240612T080000
DTEND;TZID=Europe/Oslo:20240612T170000
DTSTAMP:20260421T204143
CREATED:20240522T131357Z
LAST-MODIFIED:20240522T131358Z
UID:10005105-1718179200-1718211600@www.snasa.no
SUMMARY:NÆTTVERKET (Mental Helse Snåsa) Hver onsdag
DESCRIPTION:NÆTTVERKET!! \nMental helse Snåsa driver et treffsted “NÆTTVERKET”. Vi treffes hver onsdag for å snakke om stort og smått som opptar oss i hverdagen. ( te/kaffe \, noe å bite i) \nMental helse er en medlemsorganisasjon for alle mennesker med psykiske/fysisk helseproblem og pårørende. ( og andre) Vi arbeider for at alle kan leve et meningsfullt liv og oppleve egenverd og mestring. \nVELKOMMEN
URL:https://www.snasa.no/arrangement/naettverket-mental-helse-snasa-hver-onsdag-3-2/2024-06-12/
ATTACH;FMTTYPE=image/jpeg:https://www.snasa.no/wp-content/uploads/2024/01/mental_helse_snasa_vinje-scaled.jpg
END:VEVENT
BEGIN:VEVENT
DTSTART;TZID=Europe/Oslo:20240614T190000
DTEND;TZID=Europe/Oslo:20240614T230000
DTSTAMP:20260421T204143
CREATED:20240611T220736Z
LAST-MODIFIED:20240612T103406Z
UID:10005367-1718391600-1718406000@www.snasa.no
SUMMARY:FISKUMS PÅ VONHEIM\, dansekveld for alle aldre. ved Livsglede for Eldre
DESCRIPTION:Fiskums spiller til dans på Vonheim. Åpent for alle aldre.\nvil du ha et lite dansekurs i gammeldans så kom kl 18.\nFiskums starter å spille kl 19.\nservering og tombola\nGunnar Viem kommer og forteller historier.\nta med familie\, venner eller naboen og kom for en trivelig sosial kveld med fin musikk.\nTreng du skyss ring Inga Lill på 41082746 \nArrangør er Livsglede for Eldre
URL:https://www.snasa.no/arrangement/fiskums-pa-vonheim-dansekveld-for-alle-aldre-ved-livsglede-for-eldre/
CATEGORIES:Barn
END:VEVENT
BEGIN:VEVENT
DTSTART;TZID=Europe/Oslo:20240617T173000
DTEND;TZID=Europe/Oslo:20240617T193000
DTSTAMP:20260421T204143
CREATED:20240305T130427Z
LAST-MODIFIED:20250224T095555Z
UID:10006321-1718645400-1718652600@www.snasa.no
SUMMARY:KorEvi øvelse annenhver mandag
DESCRIPTION:Korøvelse i Snåsa demenskor KorEvi! \nAnnenhver mandag på partallsuker kl 17:30 – 19:30. \nSted: \nSnåsa kulturscene
URL:https://www.snasa.no/arrangement/korevi-ovelse-annenhver-mandag-pa-partallsuker/2024-06-17/
END:VEVENT
BEGIN:VEVENT
DTSTART;TZID=Europe/Oslo:20240619T110000
DTEND;TZID=Europe/Oslo:20240619T130000
DTSTAMP:20260421T204143
CREATED:20240522T131357Z
LAST-MODIFIED:20240522T131358Z
UID:10005106-1718794800-1718802000@www.snasa.no
SUMMARY:NÆTTVERKET (Mental Helse Snåsa) Hver onsdag
DESCRIPTION:NÆTTVERKET!! \nMental helse Snåsa driver et treffsted “NÆTTVERKET”. Vi treffes hver onsdag for å snakke om stort og smått som opptar oss i hverdagen. ( te/kaffe \, noe å bite i) \nMental helse er en medlemsorganisasjon for alle mennesker med psykiske/fysisk helseproblem og pårørende. ( og andre) Vi arbeider for at alle kan leve et meningsfullt liv og oppleve egenverd og mestring. \nVELKOMMEN
URL:https://www.snasa.no/arrangement/naettverket-mental-helse-snasa-hver-onsdag-3-2/2024-06-19/
ATTACH;FMTTYPE=image/jpeg:https://www.snasa.no/wp-content/uploads/2024/01/mental_helse_snasa_vinje-scaled.jpg
END:VEVENT
BEGIN:VEVENT
DTSTART;TZID=Europe/Oslo:20240621T130000
DTEND;TZID=Europe/Oslo:20240621T150000
DTSTAMP:20260421T204143
CREATED:20240408T090926Z
LAST-MODIFIED:20240409T083456Z
UID:10005043-1718974800-1718982000@www.snasa.no
SUMMARY:Fredagsklubb
DESCRIPTION:Fredagsklubb for barn fra 1. til 4. klasse\, arrangert av Snåsa menighet.\nHobby og lek\, samling med fortelling og sang. \nOddetalsuker på fredag\, rett etter skoletid. Velkommen til alle barn!!
URL:https://www.snasa.no/arrangement/fredagsklubb-2/2024-06-21/
CATEGORIES:Barn,Hobby/ fritid
ATTACH;FMTTYPE=image/jpeg:https://www.snasa.no/wp-content/uploads/2024/04/396349342_240945358661525_8858761302289564611_n.jpg
END:VEVENT
BEGIN:VEVENT
DTSTART;TZID=Europe/Oslo:20240625T130000
DTEND;TZID=Europe/Oslo:20240625T143000
DTSTAMP:20260421T204143
CREATED:20240408T090559Z
LAST-MODIFIED:20240409T082930Z
UID:10004913-1719320400-1719325800@www.snasa.no
SUMMARY:Seniorkor
DESCRIPTION:Seniorkor er et kor for sangglade eldre over 70 år. Annahver tirsdag møtes de i Soknestuggu for en sangstund og kaffetreff.\nOrganist/Kantor Magne Emberland leder gruppen.
URL:https://www.snasa.no/arrangement/seniorkor/2024-06-25/
ATTACH;FMTTYPE=image/jpeg:https://www.snasa.no/wp-content/uploads/2024/04/notebok-pa-piano-foto-den-norske-kirke-kirkeradet-scaled.jpg
END:VEVENT
BEGIN:VEVENT
DTSTART;TZID=Europe/Oslo:20240626T110000
DTEND;TZID=Europe/Oslo:20240626T130000
DTSTAMP:20260421T204143
CREATED:20240522T131357Z
LAST-MODIFIED:20240522T131358Z
UID:10005107-1719399600-1719406800@www.snasa.no
SUMMARY:NÆTTVERKET (Mental Helse Snåsa) Hver onsdag
DESCRIPTION:NÆTTVERKET!! \nMental helse Snåsa driver et treffsted “NÆTTVERKET”. Vi treffes hver onsdag for å snakke om stort og smått som opptar oss i hverdagen. ( te/kaffe \, noe å bite i) \nMental helse er en medlemsorganisasjon for alle mennesker med psykiske/fysisk helseproblem og pårørende. ( og andre) Vi arbeider for at alle kan leve et meningsfullt liv og oppleve egenverd og mestring. \nVELKOMMEN
URL:https://www.snasa.no/arrangement/naettverket-mental-helse-snasa-hver-onsdag-3-2/2024-06-26/
ATTACH;FMTTYPE=image/jpeg:https://www.snasa.no/wp-content/uploads/2024/01/mental_helse_snasa_vinje-scaled.jpg
END:VEVENT
BEGIN:VEVENT
DTSTART;TZID=Europe/Oslo:20240628T100000
DTEND;TZID=Europe/Oslo:20240628T100000
DTSTAMP:20260421T204143
CREATED:20240531T071938Z
LAST-MODIFIED:20240605T080154Z
UID:10005365-1719568800-1719568800@www.snasa.no
SUMMARY:SNÅSA GAME FAIR
DESCRIPTION:Snåsa IL\, Snåsa Jeger og Fisk og Jegerpodden AS har blitt enige om å slå sammen arrangementene Snåsavatnet Fiskefestival og Asphaugen Game Fair. Det nye arrangementet har fått navnet Snåsa Game Fair og det blir en fullblods villmarksfestival på Snåsa! Her blir det show\, messe\, fisking\, og aktiviteter for store og små på dagtid\, og kveldene blir det full fart med noen av Norges største liveband! \nFredag 28. juni \n10.00: Campingområder åpner \n12.00: Fiskekonkurranse starter (24t) \n18.00: Festområdet/servering i teltet åpner \n19.00: Jegerpodden Live \n21.30: Magnus Hestegrei m/band og Hagle \n01.30: Festområdet stenger
URL:https://www.snasa.no/arrangement/snasa-game-fair-2/
CATEGORIES:Barn,Hobby/ fritid,Interesseorganisasjoner
ATTACH;FMTTYPE=image/jpeg:https://www.snasa.no/wp-content/uploads/2024/05/plakat-svart-med-logo-og-hovedsponsor-fra-lansering.jpeg
END:VEVENT
BEGIN:VEVENT
DTSTART;TZID=Europe/Oslo:20240629T100000
DTEND;TZID=Europe/Oslo:20240629T100000
DTSTAMP:20260421T204143
CREATED:20240531T072146Z
LAST-MODIFIED:20240605T080337Z
UID:10005366-1719655200-1719655200@www.snasa.no
SUMMARY:SNÅSA GAME FAIR
DESCRIPTION:Lørdag 29. juni \n10.00: Messe\, hund\, telt-område og Barnas GF åpner \n10.00: Permo-elg og permobjørn testing av hunder (påmelding) \n10.00: Castingdam med instruksjon og oppvisning \n11.00: Mountainbike-show med MTB Freestyle \n11.30: Freestyle Motocross Show med Flying Vikings \n12.00: Fiskekonkurranse avsluttes \n12.00: Skyteshow med Kennet Aspestrand \n12.30: Raseparade med jakthundrasene \n13.00: Slaktekurs m/ Joar Søhoel \n13.30: Foredrag om bandhundjakt (arr: NTEHK) \n14.00: Bjørnis-show \n15.00: Lokkekurs og jaktfilm med Kristoffer Clausen \n15.30: Trollingfiske etter ørret – foredrag med Cato Bekkevold \n16.00: Rebella Hex m/ meet and greet \n16.00: Foredrag om løshundjakt (arr: NTEHK) \n17.00: Messe\, hund\, teltområde\, Barnas GF\, castingdam stenger \n17.00: Premieutdeling fiskekonkurranse \n19.00: Festområdet og servering for kveldsarrangement med Sjuende far i huset og Staysman \n01.30: Festområdet stenger
URL:https://www.snasa.no/arrangement/snasa-game-fair-3/
CATEGORIES:Barn,Hobby/ fritid,Interesseorganisasjoner
ATTACH;FMTTYPE=image/png:https://www.snasa.no/wp-content/uploads/2024/05/skjermbilde-2024-04-30-kl-11-46-25.png
END:VEVENT
BEGIN:VEVENT
DTSTART;TZID=Europe/Oslo:20240630T100000
DTEND;TZID=Europe/Oslo:20240630T160000
DTSTAMP:20260421T204143
CREATED:20240531T072328Z
LAST-MODIFIED:20240605T075910Z
UID:10005364-1719741600-1719763200@www.snasa.no
SUMMARY:SNÅSA GAME FAIR
DESCRIPTION:Søndag 30. juni \n10.00: Messe\, hund\, telt-område og Barnas GF åpner \n10.00: Permo-elg og permobjørn testing av hunder (påmelding) \n10.00: Castingdam med instruksjon og oppvisning \n10.30: Jaktfilm og brølende hjortebukker med Joar Søhoel \n11.00: Mountainbike-show med MTB Freestyle \n11.30: Freestyle Motocross Show med Flying Vikings \n12.00: Skyteshow med Kennet Aspestrand \n13.00: Lokkekurs og jaktfilm med Kristoffer Clausen \n13.00: Barnas Fiskesommer \n13.30: Helse\, avl\, indeks og eksteriør hos jakthunder (arr: NTEHK) \n15.00: Andeløp \n15.00: Trollingfiske etter ørret – foredrag med Cato Bekkevold \n16.00: Rebella Hex m/ meet and greet \n16.00: Messe\, hund\, teltområde\, Barnas GF\, castingdam stenger
URL:https://www.snasa.no/arrangement/snasa-game-fair/
CATEGORIES:Barn,Hobby/ fritid,Interesseorganisasjoner
ATTACH;FMTTYPE=image/jpeg:https://www.snasa.no/wp-content/uploads/2024/05/plakat-svart-med-logo-og-hovedsponsor-fra-lansering1.jpeg
END:VEVENT
END:VCALENDAR